BEGIN:VCALENDAR
VERSION:2.0
PRODID:icalendar-ruby
CALSCALE:GREGORIAN
METHOD:PUBLISH
BEGIN:VEVENT
DTSTAMP:20260425T203950Z
UID:7-530359@beechgrovebaptistchurch.org
DTSTART:20261101T170000Z
DTEND:20261101T180000Z
CLASS:PUBLIC
CREATED:20260425T150953
DESCRIPTION:
LAST-MODIFIED:20260425T150953
LOCATION:
SUMMARY:Worship Service
URL;VALUE=URI:https://www.beechgrovebaptistchurch.org/events/worship-servic
 e--7/2026-11-01
END:VEVENT
END:VCALENDAR
