BEGIN:VCALENDAR
VERSION:2.0
PRODID:icalendar-ruby
CALSCALE:GREGORIAN
METHOD:PUBLISH
BEGIN:VEVENT
DTSTAMP:20260425T173032Z
UID:7-529912@beechgrovebaptistchurch.org
DTSTART:20261018T160000Z
DTEND:20261018T170000Z
CLASS:PUBLIC
CREATED:20260425T122822
DESCRIPTION:
LAST-MODIFIED:20260425T122822
LOCATION:
SUMMARY:Worship Service
URL;VALUE=URI:https://www.beechgrovebaptistchurch.org/events/worship-servic
 e--7/2026-10-18
END:VEVENT
END:VCALENDAR
