BEGIN:VCALENDAR
VERSION:2.0
PRODID:icalendar-ruby
CALSCALE:GREGORIAN
METHOD:PUBLISH
BEGIN:VEVENT
DTSTAMP:20260425T144734Z
UID:7-529020@beechgrovebaptistchurch.org
DTSTART:20261004T160000Z
DTEND:20261004T170000Z
CLASS:PUBLIC
CREATED:20260425T070715
DESCRIPTION:
LAST-MODIFIED:20260425T070715
LOCATION:
SUMMARY:Worship Service
URL;VALUE=URI:https://www.beechgrovebaptistchurch.org/events/worship-servic
 e--7/2026-10-04
END:VEVENT
END:VCALENDAR
