BEGIN:VCALENDAR
VERSION:2.0
PRODID:icalendar-ruby
CALSCALE:GREGORIAN
METHOD:PUBLISH
BEGIN:VEVENT
DTSTAMP:20260425T113704Z
UID:7-528573@beechgrovebaptistchurch.org
DTSTART:20260920T160000Z
DTEND:20260920T170000Z
CLASS:PUBLIC
CREATED:20260424T212235
DESCRIPTION:
LAST-MODIFIED:20260424T212235
LOCATION:
SUMMARY:Worship Service
URL;VALUE=URI:https://www.beechgrovebaptistchurch.org/events/worship-servic
 e--7/2026-09-20
END:VEVENT
END:VCALENDAR
