BEGIN:VCALENDAR
VERSION:2.0
PRODID:icalendar-ruby
CALSCALE:GREGORIAN
METHOD:PUBLISH
BEGIN:VEVENT
DTSTAMP:20260423T081351Z
UID:7-523231@beechgrovebaptistchurch.org
DTSTART:20260906T160000Z
DTEND:20260906T170000Z
CLASS:PUBLIC
CREATED:20260422T214807
DESCRIPTION:
LAST-MODIFIED:20260422T214807
LOCATION:
SUMMARY:Worship Service
URL;VALUE=URI:https://www.beechgrovebaptistchurch.org/events/worship-servic
 e--7/2026-09-06
END:VEVENT
END:VCALENDAR
