BEGIN:VCALENDAR
VERSION:2.0
PRODID:icalendar-ruby
CALSCALE:GREGORIAN
METHOD:PUBLISH
BEGIN:VEVENT
DTSTAMP:20260421T125947Z
UID:7-518347@beechgrovebaptistchurch.org
DTSTART:20260823T160000Z
DTEND:20260823T170000Z
CLASS:PUBLIC
CREATED:20260421T070300
DESCRIPTION:
LAST-MODIFIED:20260421T070300
LOCATION:
SUMMARY:Worship Service
URL;VALUE=URI:https://www.beechgrovebaptistchurch.org/events/worship-servic
 e--7/2026-08-23
END:VEVENT
END:VCALENDAR
