BEGIN:VCALENDAR
VERSION:2.0
PRODID:icalendar-ruby
CALSCALE:GREGORIAN
METHOD:PUBLISH
BEGIN:VEVENT
DTSTAMP:20260421T041449Z
UID:7-517898@beechgrovebaptistchurch.org
DTSTART:20260712T160000Z
DTEND:20260712T170000Z
CLASS:PUBLIC
CREATED:20260420T195616
DESCRIPTION:
LAST-MODIFIED:20260420T195616
LOCATION:
SUMMARY:Worship Service
URL;VALUE=URI:https://www.beechgrovebaptistchurch.org/events/worship-servic
 e--7/2026-07-12
END:VEVENT
END:VCALENDAR
