BEGIN:VCALENDAR
VERSION:2.0
PRODID:icalendar-ruby
CALSCALE:GREGORIAN
METHOD:PUBLISH
BEGIN:VEVENT
DTSTAMP:20260421T023804Z
UID:7-517897@beechgrovebaptistchurch.org
DTSTART:20260705T160000Z
DTEND:20260705T170000Z
CLASS:PUBLIC
CREATED:20260420T195616
DESCRIPTION:
LAST-MODIFIED:20260420T195616
LOCATION:
SUMMARY:Worship Service
URL;VALUE=URI:https://www.beechgrovebaptistchurch.org/events/worship-servic
 e--7/2026-07-05
END:VEVENT
END:VCALENDAR
