BEGIN:VCALENDAR
VERSION:2.0
PRODID:icalendar-ruby
CALSCALE:GREGORIAN
METHOD:PUBLISH
BEGIN:VEVENT
DTSTAMP:20260423T225736Z
UID:8-525133@beechgrovebaptistchurch.org
DTSTART:20261021T230000Z
DTEND:20261022T000000Z
CLASS:PUBLIC
CREATED:20260423T160239
DESCRIPTION:
LAST-MODIFIED:20260423T160239
LOCATION:
SUMMARY:Wednesday Night Bible Study
URL;VALUE=URI:https://www.beechgrovebaptistchurch.org/events/wednesday-nigh
 t-bible-study/2026-10-21
END:VEVENT
END:VCALENDAR
