BEGIN:VCALENDAR
VERSION:2.0
PRODID:icalendar-ruby
CALSCALE:GREGORIAN
METHOD:PUBLISH
BEGIN:VEVENT
DTSTAMP:20260423T144445Z
UID:8-523793@beechgrovebaptistchurch.org
DTSTART:20260916T230000Z
DTEND:20260917T000000Z
CLASS:PUBLIC
CREATED:20260423T071823
DESCRIPTION:
LAST-MODIFIED:20260423T071823
LOCATION:
SUMMARY:Wednesday Night Bible Study
URL;VALUE=URI:https://www.beechgrovebaptistchurch.org/events/wednesday-nigh
 t-bible-study/2026-09-16
END:VEVENT
END:VCALENDAR
