BEGIN:VCALENDAR
VERSION:2.0
PRODID:icalendar-ruby
CALSCALE:GREGORIAN
METHOD:PUBLISH
BEGIN:VEVENT
DTSTAMP:20260423T081828Z
UID:8-523344@beechgrovebaptistchurch.org
DTSTART:20260819T230000Z
DTEND:20260820T000000Z
CLASS:PUBLIC
CREATED:20260422T214807
DESCRIPTION:
LAST-MODIFIED:20260422T214807
LOCATION:
SUMMARY:Wednesday Night Bible Study
URL;VALUE=URI:https://www.beechgrovebaptistchurch.org/events/wednesday-nigh
 t-bible-study/2026-08-19
END:VEVENT
END:VCALENDAR
