BEGIN:VCALENDAR
VERSION:2.0
PRODID:icalendar-ruby
CALSCALE:GREGORIAN
METHOD:PUBLISH
BEGIN:VEVENT
DTSTAMP:20260421T144133Z
UID:8-518904@beechgrovebaptistchurch.org
DTSTART:20260812T230000Z
DTEND:20260813T000000Z
CLASS:PUBLIC
CREATED:20260421T093833
DESCRIPTION:
LAST-MODIFIED:20260421T093833
LOCATION:
SUMMARY:Wednesday Night Bible Study
URL;VALUE=URI:https://www.beechgrovebaptistchurch.org/events/wednesday-nigh
 t-bible-study/2026-08-12
END:VEVENT
END:VCALENDAR
