BEGIN:VCALENDAR
VERSION:2.0
PRODID:icalendar-ruby
CALSCALE:GREGORIAN
METHOD:PUBLISH
BEGIN:VEVENT
DTSTAMP:20260421T130511Z
UID:8-518460@beechgrovebaptistchurch.org
DTSTART:20260805T230000Z
DTEND:20260806T000000Z
CLASS:PUBLIC
CREATED:20260421T070300
DESCRIPTION:
LAST-MODIFIED:20260421T070300
LOCATION:
SUMMARY:Wednesday Night Bible Study
URL;VALUE=URI:https://www.beechgrovebaptistchurch.org/events/wednesday-nigh
 t-bible-study/2026-08-05
END:VEVENT
END:VCALENDAR
