BEGIN:VCALENDAR
VERSION:2.0
PRODID:icalendar-ruby
CALSCALE:GREGORIAN
METHOD:PUBLISH
BEGIN:VEVENT
DTSTAMP:20260425T204855Z
UID:6-530243@beechgrovebaptistchurch.org
DTSTART:20261101T160000Z
DTEND:20261101T164500Z
CLASS:PUBLIC
CREATED:20260425T150953
DESCRIPTION:
LAST-MODIFIED:20260425T150953
LOCATION:
SUMMARY:Sunday School
URL;VALUE=URI:https://www.beechgrovebaptistchurch.org/events/sunday-school/
 2026-11-01
END:VEVENT
END:VCALENDAR
