BEGIN:VCALENDAR
VERSION:2.0
PRODID:icalendar-ruby
CALSCALE:GREGORIAN
METHOD:PUBLISH
BEGIN:VEVENT
DTSTAMP:20260425T191924Z
UID:6-529797@beechgrovebaptistchurch.org
DTSTART:20261025T150000Z
DTEND:20261025T154500Z
CLASS:PUBLIC
CREATED:20260425T122822
DESCRIPTION:
LAST-MODIFIED:20260425T122822
LOCATION:
SUMMARY:Sunday School
URL;VALUE=URI:https://www.beechgrovebaptistchurch.org/events/sunday-school/
 2026-10-25
END:VEVENT
END:VCALENDAR
