BEGIN:VCALENDAR
VERSION:2.0
PRODID:icalendar-ruby
CALSCALE:GREGORIAN
METHOD:PUBLISH
BEGIN:VEVENT
DTSTAMP:20260425T173509Z
UID:6-529796@beechgrovebaptistchurch.org
DTSTART:20261018T150000Z
DTEND:20261018T154500Z
CLASS:PUBLIC
CREATED:20260425T122822
DESCRIPTION:
LAST-MODIFIED:20260425T122822
LOCATION:
SUMMARY:Sunday School
URL;VALUE=URI:https://www.beechgrovebaptistchurch.org/events/sunday-school/
 2026-10-18
END:VEVENT
END:VCALENDAR
