BEGIN:VCALENDAR
VERSION:2.0
PRODID:icalendar-ruby
CALSCALE:GREGORIAN
METHOD:PUBLISH
BEGIN:VEVENT
DTSTAMP:20260425T161720Z
UID:6-529350@beechgrovebaptistchurch.org
DTSTART:20261011T150000Z
DTEND:20261011T154500Z
CLASS:PUBLIC
CREATED:20260425T094821
DESCRIPTION:
LAST-MODIFIED:20260425T094821
LOCATION:
SUMMARY:Sunday School
URL;VALUE=URI:https://www.beechgrovebaptistchurch.org/events/sunday-school/
 2026-10-11
END:VEVENT
END:VCALENDAR
