BEGIN:VCALENDAR
VERSION:2.0
PRODID:icalendar-ruby
CALSCALE:GREGORIAN
METHOD:PUBLISH
BEGIN:VEVENT
DTSTAMP:20260425T132046Z
UID:6-528903@beechgrovebaptistchurch.org
DTSTART:20260927T150000Z
DTEND:20260927T154500Z
CLASS:PUBLIC
CREATED:20260425T070715
DESCRIPTION:
LAST-MODIFIED:20260425T070715
LOCATION:
SUMMARY:Sunday School
URL;VALUE=URI:https://www.beechgrovebaptistchurch.org/events/sunday-school/
 2026-09-27
END:VEVENT
END:VCALENDAR
