BEGIN:VCALENDAR
VERSION:2.0
PRODID:icalendar-ruby
CALSCALE:GREGORIAN
METHOD:PUBLISH
BEGIN:VEVENT
DTSTAMP:20260425T113935Z
UID:6-528457@beechgrovebaptistchurch.org
DTSTART:20260920T150000Z
DTEND:20260920T154500Z
CLASS:PUBLIC
CREATED:20260424T212235
DESCRIPTION:
LAST-MODIFIED:20260424T212235
LOCATION:
SUMMARY:Sunday School
URL;VALUE=URI:https://www.beechgrovebaptistchurch.org/events/sunday-school/
 2026-09-20
END:VEVENT
END:VCALENDAR
