BEGIN:VCALENDAR
VERSION:2.0
PRODID:icalendar-ruby
CALSCALE:GREGORIAN
METHOD:PUBLISH
BEGIN:VEVENT
DTSTAMP:20260423T083025Z
UID:6-523115@beechgrovebaptistchurch.org
DTSTART:20260906T150000Z
DTEND:20260906T154500Z
CLASS:PUBLIC
CREATED:20260422T214806
DESCRIPTION:
LAST-MODIFIED:20260422T214806
LOCATION:
SUMMARY:Sunday School
URL;VALUE=URI:https://www.beechgrovebaptistchurch.org/events/sunday-school/
 2026-09-06
END:VEVENT
END:VCALENDAR
