BEGIN:VCALENDAR
VERSION:2.0
PRODID:icalendar-ruby
CALSCALE:GREGORIAN
METHOD:PUBLISH
BEGIN:VEVENT
DTSTAMP:20260421T144132Z
UID:6-518675@beechgrovebaptistchurch.org
DTSTART:20260830T150000Z
DTEND:20260830T154500Z
CLASS:PUBLIC
CREATED:20260421T093833
DESCRIPTION:
LAST-MODIFIED:20260421T093833
LOCATION:
SUMMARY:Sunday School
URL;VALUE=URI:https://www.beechgrovebaptistchurch.org/events/sunday-school/
 2026-08-30
END:VEVENT
END:VCALENDAR
