BEGIN:VCALENDAR
VERSION:2.0
PRODID:icalendar-ruby
CALSCALE:GREGORIAN
METHOD:PUBLISH
BEGIN:VEVENT
DTSTAMP:20260421T130310Z
UID:6-518231@beechgrovebaptistchurch.org
DTSTART:20260823T150000Z
DTEND:20260823T154500Z
CLASS:PUBLIC
CREATED:20260421T070300
DESCRIPTION:
LAST-MODIFIED:20260421T070300
LOCATION:
SUMMARY:Sunday School
URL;VALUE=URI:https://www.beechgrovebaptistchurch.org/events/sunday-school/
 2026-08-23
END:VEVENT
END:VCALENDAR
