BEGIN:VCALENDAR
VERSION:2.0
PRODID:icalendar-ruby
CALSCALE:GREGORIAN
METHOD:PUBLISH
BEGIN:VEVENT
DTSTAMP:20260421T040149Z
UID:6-517782@beechgrovebaptistchurch.org
DTSTART:20260712T150000Z
DTEND:20260712T154500Z
CLASS:PUBLIC
CREATED:20260420T195616
DESCRIPTION:
LAST-MODIFIED:20260420T195616
LOCATION:
SUMMARY:Sunday School
URL;VALUE=URI:https://www.beechgrovebaptistchurch.org/events/sunday-school/
 2026-07-12
END:VEVENT
END:VCALENDAR
